BEGIN:VCALENDAR
VERSION:2.0
PRODID:-//ENGtechnica - ECPv6.15.20//NONSGML v1.0//EN
CALSCALE:GREGORIAN
METHOD:PUBLISH
X-ORIGINAL-URL:https://engtechnica.com
X-WR-CALDESC:Events for ENGtechnica
REFRESH-INTERVAL;VALUE=DURATION:PT1H
X-Robots-Tag:noindex
X-PUBLISHED-TTL:PT1H
BEGIN:VTIMEZONE
TZID:America/Detroit
BEGIN:DAYLIGHT
TZOFFSETFROM:-0500
TZOFFSETTO:-0400
TZNAME:EDT
DTSTART:20240310T070000
END:DAYLIGHT
BEGIN:STANDARD
TZOFFSETFROM:-0400
TZOFFSETTO:-0500
TZNAME:EST
DTSTART:20241103T060000
END:STANDARD
BEGIN:DAYLIGHT
TZOFFSETFROM:-0500
TZOFFSETTO:-0400
TZNAME:EDT
DTSTART:20250309T070000
END:DAYLIGHT
BEGIN:STANDARD
TZOFFSETFROM:-0400
TZOFFSETTO:-0500
TZNAME:EST
DTSTART:20251102T060000
END:STANDARD
BEGIN:DAYLIGHT
TZOFFSETFROM:-0500
TZOFFSETTO:-0400
TZNAME:EDT
DTSTART:20260308T070000
END:DAYLIGHT
BEGIN:STANDARD
TZOFFSETFROM:-0400
TZOFFSETTO:-0500
TZNAME:EST
DTSTART:20261101T060000
END:STANDARD
END:VTIMEZONE
BEGIN:VEVENT
DTSTART;VALUE=DATE:20250602
DTEND;VALUE=DATE:20250606
DTSTAMP:20260421T191515
CREATED:20250517T003822Z
LAST-MODIFIED:20250805T213223Z
UID:10000007-1748822400-1749167999@engtechnica.com
SUMMARY:Realize LIVE Americas 2025
DESCRIPTION:Join our community of thinkers and doers in design\, manufacturing and lifecycle management to accelerate your digital transformation. \nExplore 450+ sessions and 50 hands-on training workshops.
URL:https://engtechnica.com/event/realize-live-americas-2025/
LOCATION:Huntington Place\, 1 Washington Blvd\, Detroit\, MI\, United States
CATEGORIES:All,CAD,CAM,Manufacturing,Simulation
ATTACH;FMTTYPE=image/avif:https://engtechnica.com/wp-content/uploads/2025/05/realize-live-2025-hero-detroit-mobile-1280x720-1.avif
END:VEVENT
END:VCALENDAR