BEGIN:VCALENDAR
VERSION:2.0
PRODID:-//ENGtechnica - ECPv6.15.20//NONSGML v1.0//EN
CALSCALE:GREGORIAN
METHOD:PUBLISH
X-ORIGINAL-URL:https://engtechnica.com
X-WR-CALDESC:Events for ENGtechnica
REFRESH-INTERVAL;VALUE=DURATION:PT1H
X-Robots-Tag:noindex
X-PUBLISHED-TTL:PT1H
BEGIN:VTIMEZONE
TZID:America/Los_Angeles
BEGIN:DAYLIGHT
TZOFFSETFROM:-0800
TZOFFSETTO:-0700
TZNAME:PDT
DTSTART:20240310T100000
END:DAYLIGHT
BEGIN:STANDARD
TZOFFSETFROM:-0700
TZOFFSETTO:-0800
TZNAME:PST
DTSTART:20241103T090000
END:STANDARD
BEGIN:DAYLIGHT
TZOFFSETFROM:-0800
TZOFFSETTO:-0700
TZNAME:PDT
DTSTART:20250309T100000
END:DAYLIGHT
BEGIN:STANDARD
TZOFFSETFROM:-0700
TZOFFSETTO:-0800
TZNAME:PST
DTSTART:20251102T090000
END:STANDARD
BEGIN:DAYLIGHT
TZOFFSETFROM:-0800
TZOFFSETTO:-0700
TZNAME:PDT
DTSTART:20260308T100000
END:DAYLIGHT
BEGIN:STANDARD
TZOFFSETFROM:-0700
TZOFFSETTO:-0800
TZNAME:PST
DTSTART:20261101T090000
END:STANDARD
END:VTIMEZONE
BEGIN:VEVENT
DTSTART;VALUE=DATE:20250906
DTEND;VALUE=DATE:20250910
DTSTAMP:20260421T145417
CREATED:20250701T213452Z
LAST-MODIFIED:20250805T212937Z
UID:10000016-1757116800-1757462399@engtechnica.com
SUMMARY:IFA
DESCRIPTION:The world’s largest home & consumer tech event showcasing the latest in consumer electronics\, home appliances and technology\, IFA creates a space where global innovators\, thought leaders\, professionals and consumers alike come together to shape the future of technology.
URL:https://engtechnica.com/event/ifa/
LOCATION:Messe Berlin\, Messedamm 22\, Berlin\, 14055\, Germany
CATEGORIES:All,Consumer Products
ATTACH;FMTTYPE=image/png:https://engtechnica.com/wp-content/uploads/2025/07/SNAG-0293.png
END:VEVENT
END:VCALENDAR