BEGIN:VCALENDAR
VERSION:2.0
PRODID:-//ENGtechnica - ECPv6.15.20//NONSGML v1.0//EN
CALSCALE:GREGORIAN
METHOD:PUBLISH
X-ORIGINAL-URL:https://engtechnica.com
X-WR-CALDESC:Events for ENGtechnica
REFRESH-INTERVAL;VALUE=DURATION:PT1H
X-Robots-Tag:noindex
X-PUBLISHED-TTL:PT1H
BEGIN:VTIMEZONE
TZID:America/Los_Angeles
BEGIN:DAYLIGHT
TZOFFSETFROM:-0800
TZOFFSETTO:-0700
TZNAME:PDT
DTSTART:20240310T100000
END:DAYLIGHT
BEGIN:STANDARD
TZOFFSETFROM:-0700
TZOFFSETTO:-0800
TZNAME:PST
DTSTART:20241103T090000
END:STANDARD
BEGIN:DAYLIGHT
TZOFFSETFROM:-0800
TZOFFSETTO:-0700
TZNAME:PDT
DTSTART:20250309T100000
END:DAYLIGHT
BEGIN:STANDARD
TZOFFSETFROM:-0700
TZOFFSETTO:-0800
TZNAME:PST
DTSTART:20251102T090000
END:STANDARD
BEGIN:DAYLIGHT
TZOFFSETFROM:-0800
TZOFFSETTO:-0700
TZNAME:PDT
DTSTART:20260308T100000
END:DAYLIGHT
BEGIN:STANDARD
TZOFFSETFROM:-0700
TZOFFSETTO:-0800
TZNAME:PST
DTSTART:20261101T090000
END:STANDARD
END:VTIMEZONE
BEGIN:VEVENT
DTSTART;VALUE=DATE:20251029
DTEND;VALUE=DATE:20251031
DTSTAMP:20260421T130045
CREATED:20250701T211859Z
LAST-MODIFIED:20250805T212847Z
UID:10000015-1761696000-1761868799@engtechnica.com
SUMMARY:CDFAM Computational Design Symposium
DESCRIPTION:Join leading experts in computational design across all scales—from micro to mega for two days of knowledge sharing and networking in New York City.
URL:https://engtechnica.com/event/cdfam-computational-design-symposium-2/
LOCATION:Newlab\, Brooklyn Navy Yards\, New York\, NY\, United States
CATEGORIES:All,CAD
ATTACH;FMTTYPE=image/png:https://engtechnica.com/wp-content/uploads/2025/07/SNAG-0292.png
END:VEVENT
END:VCALENDAR