BEGIN:VCALENDAR
VERSION:2.0
PRODID:-//ENGtechnica - ECPv6.15.20//NONSGML v1.0//EN
CALSCALE:GREGORIAN
METHOD:PUBLISH
X-WR-CALNAME:ENGtechnica
X-ORIGINAL-URL:https://engtechnica.com
X-WR-CALDESC:Events for ENGtechnica
REFRESH-INTERVAL;VALUE=DURATION:PT1H
X-Robots-Tag:noindex
X-PUBLISHED-TTL:PT1H
BEGIN:VTIMEZONE
TZID:America/Los_Angeles
BEGIN:DAYLIGHT
TZOFFSETFROM:-0800
TZOFFSETTO:-0700
TZNAME:PDT
DTSTART:20240310T100000
END:DAYLIGHT
BEGIN:STANDARD
TZOFFSETFROM:-0700
TZOFFSETTO:-0800
TZNAME:PST
DTSTART:20241103T090000
END:STANDARD
BEGIN:DAYLIGHT
TZOFFSETFROM:-0800
TZOFFSETTO:-0700
TZNAME:PDT
DTSTART:20250309T100000
END:DAYLIGHT
BEGIN:STANDARD
TZOFFSETFROM:-0700
TZOFFSETTO:-0800
TZNAME:PST
DTSTART:20251102T090000
END:STANDARD
BEGIN:DAYLIGHT
TZOFFSETFROM:-0800
TZOFFSETTO:-0700
TZNAME:PDT
DTSTART:20260308T100000
END:DAYLIGHT
BEGIN:STANDARD
TZOFFSETFROM:-0700
TZOFFSETTO:-0800
TZNAME:PST
DTSTART:20261101T090000
END:STANDARD
END:VTIMEZONE
BEGIN:VEVENT
DTSTART;VALUE=DATE:20250709
DTEND;VALUE=DATE:20250711
DTSTAMP:20260421T162202
CREATED:20250701T211807Z
LAST-MODIFIED:20250805T211711Z
UID:10000013-1752019200-1752191999@engtechnica.com
SUMMARY:CDFAM Computational Design Symposium
DESCRIPTION:The CDFAM Computational Design Symposium Series brings together leading experts from design\, engineering\, architecture\, academia and software development for a series of knowledge sharing and networking events focusing on computational design at all scales.
URL:https://engtechnica.com/event/cdfam-computational-design-symposium/
LOCATION:3DMZ\, Oudeweg 91-95\, 2031 CC\, Haarlem\, Netherlands
CATEGORIES:All,Simulation
ATTACH;FMTTYPE=image/png:https://engtechnica.com/wp-content/uploads/2025/07/SNAG-0291.png
END:VEVENT
END:VCALENDAR