BEGIN:VCALENDAR
VERSION:2.0
PRODID:-//ENGtechnica - ECPv6.15.20//NONSGML v1.0//EN
CALSCALE:GREGORIAN
METHOD:PUBLISH
X-WR-CALNAME:ENGtechnica
X-ORIGINAL-URL:https://engtechnica.com
X-WR-CALDESC:Events for ENGtechnica
REFRESH-INTERVAL;VALUE=DURATION:PT1H
X-Robots-Tag:noindex
X-PUBLISHED-TTL:PT1H
BEGIN:VTIMEZONE
TZID:Europe/London
BEGIN:DAYLIGHT
TZOFFSETFROM:+0000
TZOFFSETTO:+0100
TZNAME:BST
DTSTART:20240331T010000
END:DAYLIGHT
BEGIN:STANDARD
TZOFFSETFROM:+0100
TZOFFSETTO:+0000
TZNAME:GMT
DTSTART:20241027T010000
END:STANDARD
BEGIN:DAYLIGHT
TZOFFSETFROM:+0000
TZOFFSETTO:+0100
TZNAME:BST
DTSTART:20250330T010000
END:DAYLIGHT
BEGIN:STANDARD
TZOFFSETFROM:+0100
TZOFFSETTO:+0000
TZNAME:GMT
DTSTART:20251026T010000
END:STANDARD
BEGIN:DAYLIGHT
TZOFFSETFROM:+0000
TZOFFSETTO:+0100
TZNAME:BST
DTSTART:20260329T010000
END:DAYLIGHT
BEGIN:STANDARD
TZOFFSETFROM:+0100
TZOFFSETTO:+0000
TZNAME:GMT
DTSTART:20261025T010000
END:STANDARD
END:VTIMEZONE
BEGIN:VEVENT
DTSTART;VALUE=DATE:20250612
DTEND;VALUE=DATE:20250613
DTSTAMP:20260421T191559
CREATED:20250517T003231Z
LAST-MODIFIED:20250517T003231Z
UID:10000006-1749686400-1749772799@engtechnica.com
SUMMARY:NXT DEV: Shaping the future of AEC software development
DESCRIPTION:NXT DEV is a conference dedicated to exploring the concepts driving the next generation of AEC tools\, from granular to those impacting the complete lifecycle. It’s the one forum where leading Design IT Managers can share their needs and opinions\, providing direction to developers\, small and large\, as well as the finance firms that back them.
URL:https://engtechnica.com/event/nxt-bld-2/
LOCATION:London\, UK\, United Kingdom
ATTACH;FMTTYPE=image/png:https://engtechnica.com/wp-content/uploads/2025/05/SNAG-0232.png
END:VEVENT
BEGIN:VEVENT
DTSTART;VALUE=DATE:20250611
DTEND;VALUE=DATE:20250612
DTSTAMP:20260421T191559
CREATED:20250517T002812Z
LAST-MODIFIED:20250805T213125Z
UID:10000005-1749600000-1749686399@engtechnica.com
SUMMARY:NXT BLD: BIM 2.0 and Beyond
DESCRIPTION:NXT BLD (Next Build) by AEC Magazine is a future looking conference\, exhibition\, and networking event\, which explores emerging technologies\, workflows and ideas for the built environment\, beyond today’s document-focused BIM uses.
URL:https://engtechnica.com/event/nxt-bld/
LOCATION:London\, UK\, United Kingdom
CATEGORIES:AEC,All
ATTACH;FMTTYPE=image/png:https://engtechnica.com/wp-content/uploads/2025/05/SNAG-0226.png
END:VEVENT
END:VCALENDAR